Workbook

Sheet Distributions
A1: Probability distributions in Excel
A2: Each row: the parameters, a random number in I (=RAND()), a draw in J, and the mean, P10 and P90 by formula. Press F9 for new draws. Column N is the same distribution as a xellstorm input; O shows its value.
A4: Distribution | B4: Example | C4: Parameter | D4: Value | E4: Parameter | F4: Value | G4: Parameter | H4: Value | I4: Random number | J4: Draw | K4: Mean | L4: P10 | M4: P90 | N4: xellstorm input | O4: Input's value
A5: Normal | B5: Demand next season (units) | C5: Mean | D5: 1000 | E5: Standard deviation | F5: 200 | I5: =RAND() | J5: =_xlfn.NORM.INV(I5,D5,F5) | K5: =D5 | L5: =_xlfn.NORM.INV(0.1,D5,F5) | M5: =_xlfn.NORM.INV(0.9,D5,F5) | N5: 0 | O5: =N5
A6: Lognormal | B6: Repair cost of one claim (USD) | C6: Median | D6: 2000 | E6: Spread of ln (s) | F6: 0.8 | I6: =RAND() | J6: =_xlfn.LOGNORM.INV(I6,LN(D6),F6) | K6: =D6*EXP(F6^2/2) | L6: =_xlfn.LOGNORM.INV(0.1,LN(D6),F6) | M6: =_xlfn.LOGNORM.INV(0.9,LN(D6),F6) | N6: 0 | O6: =N6
A7: Triangular | B7: Cost of one item (USD thousands) | C7: Min | D7: 80 | E7: Most likely | F7: 100 | G7: Max | H7: 140 | I7: =RAND() | J7: =IF(I7<(F7-D7)/(H7-D7),D7+SQRT(I7*(H7-D7)*(F7-D7)),H7-SQRT((1-I7)*(H7-D7)*(H7-F7))) | K7: =(D7+F7+H7)/3 | L7: =IF(0.1<(F7-D7)/(H7-D7),D7+SQRT(0.1*(H7-D7)*(F7-D7)),H7-SQRT((1-0.1)*(H7-D7)*(H7-F7))) | M7: =IF(0.9<(F7-D7)/(H7-D7),D7+SQRT(0.9*(H7-D7)*(F7-D7)),H7-SQRT((1-0.9)*(H7-D7)*(H7-F7))) | N7: 0 | O7: =N7
A8: PERT | B8: Cost of one item (USD thousands) | C8: Min | D8: 80 | E8: Most likely | F8: 100 | G8: Max | H8: 140 | I8: =RAND() | J8: =_xlfn.BETA.INV(I8,1+4*(F8-D8)/(H8-D8),1+4*(H8-F8)/(H8-D8),D8,H8) | K8: =(D8+4*F8+H8)/6 | L8: =_xlfn.BETA.INV(0.1,1+4*(F8-D8)/(H8-D8),1+4*(H8-F8)/(H8-D8),D8,H8) | M8: =_xlfn.BETA.INV(0.9,1+4*(F8-D8)/(H8-D8),1+4*(H8-F8)/(H8-D8),D8,H8) | N8: 0 | O8: =N8
A9: Uniform | B9: Unit price (USD) | C9: Min | D9: 40 | E9: Max | F9: 60 | I9: =RAND() | J9: =D9+(F9-D9)*I9 | K9: =(D9+F9)/2 | L9: =D9+(F9-D9)*0.1 | M9: =D9+(F9-D9)*0.9 | N9: 0 | O9: =N9
A10: Weibull | B10: Pump life (hours) | C10: Shape | D10: 1.5 | E10: Scale | F10: 20000 | I10: =RAND() | J10: =F10*(-LN(1-I10))^(1/D10) | K10: =F10*EXP(GAMMALN(1+1/D10)) | L10: =F10*(-LN(1-0.1))^(1/D10) | M10: =F10*(-LN(1-0.9))^(1/D10) | N10: 0 | O10: =N10
A11: Exponential | B11: Time between breakdowns (hours) | C11: Mean | D11: 500 | I11: =RAND() | J11: =-D11*LN(1-I11) | K11: =D11 | L11: =-D11*LN(1-0.1) | M11: =-D11*LN(1-0.9) | N11: 0 | O11: =N11
A12: Poisson | B12: Complaints in a week | C12: Mean | D12: 4 | I12: =RAND() | J12: =COUNTIF(Tables!B$3:B$102,"<"&I12) | K12: =D12 | L12: =COUNTIF(Tables!B$3:B$102,"<"&0.1) | M12: =COUNTIF(Tables!B$3:B$102,"<"&0.9) | N12: 0 | O12: =N12
A13: Negative binomial | B13: Orders in a week, more variable | C13: Successes (n) | D13: 4 | E13: Probability (p) | F13: 0.5 | I13: =RAND() | J13: =COUNTIF(Tables!C$3:C$102,"<"&I13) | K13: =D13*(1-F13)/F13 | L13: =COUNTIF(Tables!C$3:C$102,"<"&0.1) | M13: =COUNTIF(Tables!C$3:C$102,"<"&0.9) | N13: 0 | O13: =N13
A14: Bernoulli | B14: A risk occurs (1) or not (0) | C14: Probability | D14: 0.3 | I14: =RAND() | J14: =IF(I14<D14,1,0) | K14: =D14 | L14: =_xlfn.BINOM.INV(1,D14,0.1) | M14: =_xlfn.BINOM.INV(1,D14,0.9) | N14: 0 | O14: =N14
A15: Binomial | B15: Defective units in a batch of 50 | C15: Trials (n) | D15: 50 | E15: Probability (p) | F15: 0.04 | I15: =RAND() | J15: =_xlfn.BINOM.INV(D15,F15,I15) | K15: =D15*F15 | L15: =_xlfn.BINOM.INV(D15,F15,0.1) | M15: =_xlfn.BINOM.INV(D15,F15,0.9) | N15: 0 | O15: =N15
A16: Beta | B16: Share of customers who renew | C16: Alpha | D16: 8 | E16: Beta | F16: 2 | I16: =RAND() | J16: =_xlfn.BETA.INV(I16,D16,F16) | K16: =D16/(D16+F16) | L16: =_xlfn.BETA.INV(0.1,D16,F16) | M16: =_xlfn.BETA.INV(0.9,D16,F16) | N16: 0 | O16: =N16
A17: Gamma | B17: Days to finish three repairs in a row | C17: Shape | D17: 3 | E17: Scale | F17: 2 | I17: =RAND() | J17: =_xlfn.GAMMA.INV(I17,D17,F17) | K17: =D17*F17 | L17: =_xlfn.GAMMA.INV(0.1,D17,F17) | M17: =_xlfn.GAMMA.INV(0.9,D17,F17) | N17: 0 | O17: =N17
A19: Poisson and negative binomial: the draw counts the values 0 to 99 on sheet Tables whose cumulative probability is below u, which is the smallest count whose cumulative probability reaches u.
A20: Lognormal: LOGNORM.INV takes the mean and standard deviation of ln(x), here LN(median) and s.

Sheet Tables
A1: Cumulative probabilities for the Poisson and negative binomial rows of Distributions
A2: Count k | B2: Poisson: P(X <= k) | C2: Negative binomial: P(X <= k)
A3: 0 | B3: =_xlfn.POISSON.DIST(A3,Distributions!$D$12,TRUE) | C3: =_xlfn.NEGBINOM.DIST(A3,Distributions!$D$13,Distributions!$F$13,TRUE)
A4: 1 | B4: =_xlfn.POISSON.DIST(A4,Distributions!$D$12,TRUE) | C4: =_xlfn.NEGBINOM.DIST(A4,Distributions!$D$13,Distributions!$F$13,TRUE)
A5: 2 | B5: =_xlfn.POISSON.DIST(A5,Distributions!$D$12,TRUE) | C5: =_xlfn.NEGBINOM.DIST(A5,Distributions!$D$13,Distributions!$F$13,TRUE)
A6: 3 | B6: =_xlfn.POISSON.DIST(A6,Distributions!$D$12,TRUE) | C6: =_xlfn.NEGBINOM.DIST(A6,Distributions!$D$13,Distributions!$F$13,TRUE)
A7: 4 | B7: =_xlfn.POISSON.DIST(A7,Distributions!$D$12,TRUE) | C7: =_xlfn.NEGBINOM.DIST(A7,Distributions!$D$13,Distributions!$F$13,TRUE)
A8: 5 | B8: =_xlfn.POISSON.DIST(A8,Distributions!$D$12,TRUE) | C8: =_xlfn.NEGBINOM.DIST(A8,Distributions!$D$13,Distributions!$F$13,TRUE)
A9: 6 | B9: =_xlfn.POISSON.DIST(A9,Distributions!$D$12,TRUE) | C9: =_xlfn.NEGBINOM.DIST(A9,Distributions!$D$13,Distributions!$F$13,TRUE)
A10: 7 | B10: =_xlfn.POISSON.DIST(A10,Distributions!$D$12,TRUE) | C10: =_xlfn.NEGBINOM.DIST(A10,Distributions!$D$13,Distributions!$F$13,TRUE)
A11: 8 | B11: =_xlfn.POISSON.DIST(A11,Distributions!$D$12,TRUE) | C11: =_xlfn.NEGBINOM.DIST(A11,Distributions!$D$13,Distributions!$F$13,TRUE)
A12: 9 | B12: =_xlfn.POISSON.DIST(A12,Distributions!$D$12,TRUE) | C12: =_xlfn.NEGBINOM.DIST(A12,Distributions!$D$13,Distributions!$F$13,TRUE)
A13: 10 | B13: =_xlfn.POISSON.DIST(A13,Distributions!$D$12,TRUE) | C13: =_xlfn.NEGBINOM.DIST(A13,Distributions!$D$13,Distributions!$F$13,TRUE)
A14: 11 | B14: =_xlfn.POISSON.DIST(A14,Distributions!$D$12,TRUE) | C14: =_xlfn.NEGBINOM.DIST(A14,Distributions!$D$13,Distributions!$F$13,TRUE)
... A102: 99 | B102: =_xlfn.POISSON.DIST(A102,Distributions!$D$12,TRUE) | C102: =_xlfn.NEGBINOM.DIST(A102,Distributions!$D$13,Distributions!$F$13,TRUE)
